BEGIN:VCALENDAR
PRODID:http://www.kufer.de/kuferweb / DE
VERSION:2.0
METHOD:PUBLISH
CALSCALE:GREGORIAN
X-WR-TIMEZONE:Europe/Berlin
BEGIN:VTIMEZONE
TZID:Europe/Berlin
X-LIC-LOCATION:Europe/Berlin
BEGIN:DAYLIGHT
TZOFFSETFROM:+0100
TZOFFSETTO:+0200
TZNAME:CEST
DTSTART;TZID=Europe/Berlin:19700329T020000
RRULE:FREQ=YEARLY;INTERVAL=1;BYDAY=-1SU;BYMONTH=3
END:DAYLIGHT
BEGIN:STANDARD
TZOFFSETFROM:+0200
TZOFFSETTO:+0100
TZNAME:CET
DTSTART;TZID=Europe/Berlin:19701025T030000
RRULE:FREQ=YEARLY;INTERVAL=1;BYDAY=-1SU;BYMONTH=10
END:STANDARD
END:VTIMEZONE
BEGIN:VEVENT
DTSTAMP:20260422T113401
DTSTART;TZID=Europe/Berlin:20260910T090000
DTEND;TZID=Europe/Berlin:20260910T160000
UID:26-50K-UK1-20260910T090000@AWOBILDUNGSWERK THÜRINGEN
SUMMARY:Kompaktkurs: Ankommen in den Hilfen zur Erziehung Qualifizierung für Quer- und Neueinsteiger*innen (200 UE Theorie + 100 Stunden Praxis) (26-50K-UK1) 
LOCATION:AWO Bildungswerk Erfurt, Seminarraum 2, Am Johannestor 23, 99084 Erfurt
END:VEVENT
BEGIN:VEVENT
DTSTAMP:20260422T113401
DTSTART;TZID=Europe/Berlin:20260911T090000
DTEND;TZID=Europe/Berlin:20260911T160000
UID:26-50K-UK1-20260911T090000@AWOBILDUNGSWERK THÜRINGEN
SUMMARY:Kompaktkurs: Ankommen in den Hilfen zur Erziehung Qualifizierung für Quer- und Neueinsteiger*innen (200 UE Theorie + 100 Stunden Praxis) (26-50K-UK1) 
LOCATION:AWO Bildungswerk Erfurt, Seminarraum 2, Am Johannestor 23, 99084 Erfurt
END:VEVENT
BEGIN:VEVENT
DTSTAMP:20260422T113401
DTSTART;TZID=Europe/Berlin:20261111T090000
DTEND;TZID=Europe/Berlin:20261111T160000
UID:26-50K-UK2-20261111T090000@AWOBILDUNGSWERK THÜRINGEN
SUMMARY:Kompaktkurs: Ankommen in den Hilfen zur Erziehung Qualifizierung für Quer- und Neueinsteiger*innen (200 UE Theorie + 100 Stunden Praxis) (26-50K-UK2) 
LOCATION:AWO Bildungswerk Erfurt, Seminarraum 2, Am Johannestor 23, 99084 Erfurt
END:VEVENT
BEGIN:VEVENT
DTSTAMP:20260422T113401
DTSTART;TZID=Europe/Berlin:20261112T090000
DTEND;TZID=Europe/Berlin:20261112T160000
UID:26-50K-UK2-20261112T090000@AWOBILDUNGSWERK THÜRINGEN
SUMMARY:Kompaktkurs: Ankommen in den Hilfen zur Erziehung Qualifizierung für Quer- und Neueinsteiger*innen (200 UE Theorie + 100 Stunden Praxis) (26-50K-UK2) 
LOCATION:AWO Bildungswerk Erfurt, Seminarraum 2, Am Johannestor 23, 99084 Erfurt
END:VEVENT
BEGIN:VEVENT
DTSTAMP:20260422T113401
DTSTART;TZID=Europe/Berlin:20261201T090000
DTEND;TZID=Europe/Berlin:20261201T130000
UID:26-50K-UK6-20261201T090000@AWOBILDUNGSWERK THÜRINGEN
SUMMARY:Kompaktkurs: Ankommen in den Hilfen zur Erziehung Qualifizierung für Quer- und Neueinsteiger*innen (200 UE Theorie + 100 Stunden Praxis) (26-50K-UK6) 
LOCATION:Online-Veranstaltung, , 
END:VEVENT
BEGIN:VEVENT
DTSTAMP:20260422T113401
DTSTART;TZID=Europe/Berlin:20261208T090000
DTEND;TZID=Europe/Berlin:20261208T160000
UID:26-50KU3-1-20261208T090000@AWOBILDUNGSWERK THÜRINGEN
SUMMARY:Kompaktkurs: Ankommen in den Hilfen zur Erziehung Qualifizierung für Quer- und Neueinsteiger*innen (200 UE Theorie + 100 Stunden Praxis) (26-50KU3-1) 
LOCATION:AWO Bildungswerk Erfurt, Seminarraum 1, Am Johannestor 23, 99084 Erfurt
END:VEVENT
BEGIN:VEVENT
DTSTAMP:20260422T113401
DTSTART;TZID=Europe/Berlin:20261209T090000
DTEND;TZID=Europe/Berlin:20261209T160000
UID:26-50KU3-2-20261209T090000@AWOBILDUNGSWERK THÜRINGEN
SUMMARY:Kompaktkurs: Ankommen in den Hilfen zur Erziehung Qualifizierung für Quer- und Neueinsteiger*innen (200 UE Theorie + 100 Stunden Praxis) (26-50KU3-2) 
LOCATION:AWO Bildungswerk Erfurt, Seminarraum 1, Am Johannestor 23, 99084 Erfurt
END:VEVENT
BEGIN:VEVENT
DTSTAMP:20260422T113401
DTSTART;TZID=Europe/Berlin:20270107T090000
DTEND;TZID=Europe/Berlin:20270107T160000
UID:26-50K-UK4-20270107T090000@AWOBILDUNGSWERK THÜRINGEN
SUMMARY:Kompaktkurs: Ankommen in den Hilfen zur Erziehung Qualifizierung für Quer- und Neueinsteiger*innen (200 UE Theorie + 100 Stunden Praxis) (26-50K-UK4) 
LOCATION:AWO Bildungswerk Erfurt, Seminarraum 3, Am Johannestor 23, 99084 Erfurt
END:VEVENT
BEGIN:VEVENT
DTSTAMP:20260422T113401
DTSTART;TZID=Europe/Berlin:20270108T090000
DTEND;TZID=Europe/Berlin:20270108T160000
UID:26-50K-UK4-20270108T090000@AWOBILDUNGSWERK THÜRINGEN
SUMMARY:Kompaktkurs: Ankommen in den Hilfen zur Erziehung Qualifizierung für Quer- und Neueinsteiger*innen (200 UE Theorie + 100 Stunden Praxis) (26-50K-UK4) 
LOCATION:AWO Bildungswerk Erfurt, Seminarraum 3, Am Johannestor 23, 99084 Erfurt
END:VEVENT
BEGIN:VEVENT
DTSTAMP:20260422T113401
DTSTART;TZID=Europe/Berlin:20270119T090000
DTEND;TZID=Europe/Berlin:20270119T130000
UID:26-50K-UK6-20270119T090000@AWOBILDUNGSWERK THÜRINGEN
SUMMARY:Kompaktkurs: Ankommen in den Hilfen zur Erziehung Qualifizierung für Quer- und Neueinsteiger*innen (200 UE Theorie + 100 Stunden Praxis) (26-50K-UK6) 
LOCATION:Online-Veranstaltung, , 
END:VEVENT
BEGIN:VEVENT
DTSTAMP:20260422T113401
DTSTART;TZID=Europe/Berlin:20270211T090000
DTEND;TZID=Europe/Berlin:20270211T160000
UID:26-50K-UK5-20270211T090000@AWOBILDUNGSWERK THÜRINGEN
SUMMARY:Kompaktkurs: Ankommen in den Hilfen zur Erziehung Qualifizierung für Quer- und Neueinsteiger*innen (200 UE Theorie + 100 Stunden Praxis) (26-50K-UK5) 
LOCATION:AWO Bildungswerk Erfurt, Seminarraum 3, Am Johannestor 23, 99084 Erfurt
END:VEVENT
BEGIN:VEVENT
DTSTAMP:20260422T113401
DTSTART;TZID=Europe/Berlin:20270212T090000
DTEND;TZID=Europe/Berlin:20270212T160000
UID:26-50K-UK5-20270212T090000@AWOBILDUNGSWERK THÜRINGEN
SUMMARY:Kompaktkurs: Ankommen in den Hilfen zur Erziehung Qualifizierung für Quer- und Neueinsteiger*innen (200 UE Theorie + 100 Stunden Praxis) (26-50K-UK5) 
LOCATION:AWO Bildungswerk Erfurt, Seminarraum 3, Am Johannestor 23, 99084 Erfurt
END:VEVENT
BEGIN:VEVENT
DTSTAMP:20260422T113401
DTSTART;TZID=Europe/Berlin:20270302T090000
DTEND;TZID=Europe/Berlin:20270302T130000
UID:26-50K-UK6-20270302T090000@AWOBILDUNGSWERK THÜRINGEN
SUMMARY:Kompaktkurs: Ankommen in den Hilfen zur Erziehung Qualifizierung für Quer- und Neueinsteiger*innen (200 UE Theorie + 100 Stunden Praxis) (26-50K-UK6) 
LOCATION:Online-Veranstaltung, , 
END:VEVENT
BEGIN:VEVENT
DTSTAMP:20260422T113401
DTSTART;TZID=Europe/Berlin:20270316T090000
DTEND;TZID=Europe/Berlin:20270316T160000
UID:26-50K-UK7-20270316T090000@AWOBILDUNGSWERK THÜRINGEN
SUMMARY:Kompaktkurs: Ankommen in den Hilfen zur Erziehung Qualifizierung für Quer- und Neueinsteiger*innen (200 UE Theorie + 100 Stunden Praxis) (26-50K-UK7) 
LOCATION:AWO Bildungswerk Erfurt, Seminarraum 3, Am Johannestor 23, 99084 Erfurt
END:VEVENT
BEGIN:VEVENT
DTSTAMP:20260422T113401
DTSTART;TZID=Europe/Berlin:20270317T090000
DTEND;TZID=Europe/Berlin:20270317T160000
UID:26-50K-UK8-20270317T090000@AWOBILDUNGSWERK THÜRINGEN
SUMMARY:Kompaktkurs: Ankommen in den Hilfen zur Erziehung Qualifizierung für Quer- und Neueinsteiger*innen (200 UE Theorie + 100 Stunden Praxis) (26-50K-UK8) 
LOCATION:AWO Bildungswerk Erfurt, Seminarraum 3, Am Johannestor 23, 99084 Erfurt
END:VEVENT
BEGIN:VEVENT
DTSTAMP:20260422T113401
DTSTART;TZID=Europe/Berlin:20270412T090000
DTEND;TZID=Europe/Berlin:20270412T160000
UID:26-55KU9-1-20270412T090000@AWOBILDUNGSWERK THÜRINGEN
SUMMARY:Kompaktkurs: Ankommen in den Hilfen zur Erziehung Qualifizierung für Quer- und Neueinsteiger*innen (200 UE Theorie + 100 Stunden Praxis) (26-55KU9-1) 
LOCATION:AWO Bildungswerk Erfurt, Seminarraum 3, Am Johannestor 23, 99084 Erfurt
END:VEVENT
BEGIN:VEVENT
DTSTAMP:20260422T113401
DTSTART;TZID=Europe/Berlin:20270413T090000
DTEND;TZID=Europe/Berlin:20270413T160000
UID:26-55KU9-1-20270413T090000@AWOBILDUNGSWERK THÜRINGEN
SUMMARY:Kompaktkurs: Ankommen in den Hilfen zur Erziehung Qualifizierung für Quer- und Neueinsteiger*innen (200 UE Theorie + 100 Stunden Praxis) (26-55KU9-1) 
LOCATION:AWO Bildungswerk Erfurt, Seminarraum 3, Am Johannestor 23, 99084 Erfurt
END:VEVENT
BEGIN:VEVENT
DTSTAMP:20260422T113401
DTSTART;TZID=Europe/Berlin:20270414T090000
DTEND;TZID=Europe/Berlin:20270414T160000
UID:26-50KU9-2-20270414T090000@AWOBILDUNGSWERK THÜRINGEN
SUMMARY:Kompaktkurs: Ankommen in den Hilfen zur Erziehung Qualifizierung für Quer- und Neueinsteiger*innen (200 UE Theorie + 100 Stunden Praxis) (26-50KU9-2) 
LOCATION:AWO Bildungswerk Erfurt, Seminarraum 3, Am Johannestor 23, 99084 Erfurt
END:VEVENT
BEGIN:VEVENT
DTSTAMP:20260422T113401
DTSTART;TZID=Europe/Berlin:20270511T090000
DTEND;TZID=Europe/Berlin:20270511T130000
UID:26-50K-UK6-20270511T090000@AWOBILDUNGSWERK THÜRINGEN
SUMMARY:Kompaktkurs: Ankommen in den Hilfen zur Erziehung Qualifizierung für Quer- und Neueinsteiger*innen (200 UE Theorie + 100 Stunden Praxis) (26-50K-UK6) 
LOCATION:Online-Veranstaltung, , 
END:VEVENT
BEGIN:VEVENT
DTSTAMP:20260422T113401
DTSTART;TZID=Europe/Berlin:20270525T090000
DTEND;TZID=Europe/Berlin:20270525T160000
UID:26-50KUK10-20270525T090000@AWOBILDUNGSWERK THÜRINGEN
SUMMARY:Kompaktkurs: Ankommen in den Hilfen zur Erziehung Qualifizierung für Quer- und Neueinsteiger*innen (200 UE Theorie + 100 Stunden Praxis) (26-50KUK10) 
LOCATION:AWO Bildungswerk Erfurt, Seminarraum 3, Am Johannestor 23, 99084 Erfurt
END:VEVENT
BEGIN:VEVENT
DTSTAMP:20260422T113401
DTSTART;TZID=Europe/Berlin:20270526T090000
DTEND;TZID=Europe/Berlin:20270526T160000
UID:26-50KUK11-20270526T090000@AWOBILDUNGSWERK THÜRINGEN
SUMMARY:Kompaktkurs: Ankommen in den Hilfen zur Erziehung Qualifizierung für Quer- und Neueinsteiger*innen (200 UE Theorie + 100 Stunden Praxis) (26-50KUK11) 
LOCATION:AWO Bildungswerk Erfurt, Seminarraum 3, Am Johannestor 23, 99084 Erfurt
END:VEVENT
BEGIN:VEVENT
DTSTAMP:20260422T113401
DTSTART;TZID=Europe/Berlin:20270907T090000
DTEND;TZID=Europe/Berlin:20270907T160000
UID:26-50KUK13-20270907T090000@AWOBILDUNGSWERK THÜRINGEN
SUMMARY:Kompaktkurs: Ankommen in den Hilfen zur Erziehung Qualifizierung für Quer- und Neueinsteiger*innen (200 UE Theorie + 100 Stunden Praxis) (26-50KUK13) 
LOCATION:AWO Bildungswerk Erfurt, Seminarraum 3, Am Johannestor 23, 99084 Erfurt
END:VEVENT
BEGIN:VEVENT
DTSTAMP:20260422T113401
DTSTART;TZID=Europe/Berlin:20270908T090000
DTEND;TZID=Europe/Berlin:20270908T160000
UID:26-50KUK13-20270908T090000@AWOBILDUNGSWERK THÜRINGEN
SUMMARY:Kompaktkurs: Ankommen in den Hilfen zur Erziehung Qualifizierung für Quer- und Neueinsteiger*innen (200 UE Theorie + 100 Stunden Praxis) (26-50KUK13) 
LOCATION:AWO Bildungswerk Erfurt, Seminarraum 3, Am Johannestor 23, 99084 Erfurt
END:VEVENT
END:VCALENDAR