BEGIN:VCALENDAR
PRODID:http://www.kufer.de/kuferweb / DE
VERSION:2.0
METHOD:PUBLISH
CALSCALE:GREGORIAN
X-WR-TIMEZONE:Europe/Berlin
BEGIN:VTIMEZONE
TZID:Europe/Berlin
X-LIC-LOCATION:Europe/Berlin
BEGIN:DAYLIGHT
TZOFFSETFROM:+0100
TZOFFSETTO:+0200
TZNAME:CEST
DTSTART;TZID=Europe/Berlin:19700329T020000
RRULE:FREQ=YEARLY;INTERVAL=1;BYDAY=-1SU;BYMONTH=3
END:DAYLIGHT
BEGIN:STANDARD
TZOFFSETFROM:+0200
TZOFFSETTO:+0100
TZNAME:CET
DTSTART;TZID=Europe/Berlin:19701025T030000
RRULE:FREQ=YEARLY;INTERVAL=1;BYDAY=-1SU;BYMONTH=10
END:STANDARD
END:VTIMEZONE
BEGIN:VEVENT
DTSTAMP:20260423T021256
DTSTART;TZID=Europe/Berlin:20260702T130000
DTEND;TZID=Europe/Berlin:20260702T160000
UID:26-24O-025-20260702T130000@AWOBILDUNGSWERK THÜRINGEN
SUMMARY:Was braucht ein Kind, wenn es "aus der Haut fährt"? Eine Reise durch Stress, Verbindung und echte Regulation (26-24O-025) 
LOCATION:Online-Veranstaltung, , 
END:VEVENT
END:VCALENDAR