BEGIN:VCALENDAR
PRODID:http://www.kufer.de/kuferweb / DE
VERSION:2.0
METHOD:PUBLISH
CALSCALE:GREGORIAN
X-WR-TIMEZONE:Europe/Berlin
BEGIN:VTIMEZONE
TZID:Europe/Berlin
X-LIC-LOCATION:Europe/Berlin
BEGIN:DAYLIGHT
TZOFFSETFROM:+0100
TZOFFSETTO:+0200
TZNAME:CEST
DTSTART;TZID=Europe/Berlin:19700329T020000
RRULE:FREQ=YEARLY;INTERVAL=1;BYDAY=-1SU;BYMONTH=3
END:DAYLIGHT
BEGIN:STANDARD
TZOFFSETFROM:+0200
TZOFFSETTO:+0100
TZNAME:CET
DTSTART;TZID=Europe/Berlin:19701025T030000
RRULE:FREQ=YEARLY;INTERVAL=1;BYDAY=-1SU;BYMONTH=10
END:STANDARD
END:VTIMEZONE
BEGIN:VEVENT
DTSTAMP:20260419T205131
DTSTART;TZID=Europe/Berlin:20260910T090000
DTEND;TZID=Europe/Berlin:20260910T160000
UID:26-21K-003-20260910T090000@AWOBILDUNGSWERK THÜRINGEN
SUMMARY:Kinderschutz kompakt – Für starke Kinder und sichere(re) Lebenswelten (26-21K-003) 
LOCATION:AWO Bildungswerk Erfurt, Seminarraum 3, Am Johannestor 23, 99084 Erfurt
END:VEVENT
BEGIN:VEVENT
DTSTAMP:20260419T205131
DTSTART;TZID=Europe/Berlin:20260911T090000
DTEND;TZID=Europe/Berlin:20260911T160000
UID:26-21K-003-20260911T090000@AWOBILDUNGSWERK THÜRINGEN
SUMMARY:Kinderschutz kompakt – Für starke Kinder und sichere(re) Lebenswelten (26-21K-003) 
LOCATION:AWO Bildungswerk Erfurt, Seminarraum 3, Am Johannestor 23, 99084 Erfurt
END:VEVENT
BEGIN:VEVENT
DTSTAMP:20260419T205131
DTSTART;TZID=Europe/Berlin:20261119T090000
DTEND;TZID=Europe/Berlin:20261119T160000
UID:26-21K-003-20261119T090000@AWOBILDUNGSWERK THÜRINGEN
SUMMARY:Kinderschutz kompakt – Für starke Kinder und sichere(re) Lebenswelten (26-21K-003) 
LOCATION:AWO Bildungswerk Erfurt, Seminarraum 1, Am Johannestor 23, 99084 Erfurt
END:VEVENT
BEGIN:VEVENT
DTSTAMP:20260419T205131
DTSTART;TZID=Europe/Berlin:20261120T090000
DTEND;TZID=Europe/Berlin:20261120T160000
UID:26-21K-003-20261120T090000@AWOBILDUNGSWERK THÜRINGEN
SUMMARY:Kinderschutz kompakt – Für starke Kinder und sichere(re) Lebenswelten (26-21K-003) 
LOCATION:AWO Bildungswerk Erfurt, Seminarraum 1, Am Johannestor 23, 99084 Erfurt
END:VEVENT
BEGIN:VEVENT
DTSTAMP:20260419T205131
DTSTART;TZID=Europe/Berlin:20261210T090000
DTEND;TZID=Europe/Berlin:20261210T160000
UID:26-21K-003-20261210T090000@AWOBILDUNGSWERK THÜRINGEN
SUMMARY:Kinderschutz kompakt – Für starke Kinder und sichere(re) Lebenswelten (26-21K-003) 
LOCATION:AWO Bildungswerk Erfurt, Seminarraum 3, Am Johannestor 23, 99084 Erfurt
END:VEVENT
BEGIN:VEVENT
DTSTAMP:20260419T205131
DTSTART;TZID=Europe/Berlin:20270121T090000
DTEND;TZID=Europe/Berlin:20270121T160000
UID:26-21K-003-20270121T090000@AWOBILDUNGSWERK THÜRINGEN
SUMMARY:Kinderschutz kompakt – Für starke Kinder und sichere(re) Lebenswelten (26-21K-003) 
LOCATION:AWO Bildungswerk Erfurt, Seminarraum 3, Am Johannestor 23, 99084 Erfurt
END:VEVENT
BEGIN:VEVENT
DTSTAMP:20260419T205131
DTSTART;TZID=Europe/Berlin:20270122T090000
DTEND;TZID=Europe/Berlin:20270122T160000
UID:26-21K-003-20270122T090000@AWOBILDUNGSWERK THÜRINGEN
SUMMARY:Kinderschutz kompakt – Für starke Kinder und sichere(re) Lebenswelten (26-21K-003) 
LOCATION:AWO Bildungswerk Erfurt, Seminarraum 3, Am Johannestor 23, 99084 Erfurt
END:VEVENT
BEGIN:VEVENT
DTSTAMP:20260419T205131
DTSTART;TZID=Europe/Berlin:20270225T090000
DTEND;TZID=Europe/Berlin:20270225T160000
UID:26-21K-003-20270225T090000@AWOBILDUNGSWERK THÜRINGEN
SUMMARY:Kinderschutz kompakt – Für starke Kinder und sichere(re) Lebenswelten (26-21K-003) 
LOCATION:AWO Bildungswerk Erfurt, Seminarraum 3, Am Johannestor 23, 99084 Erfurt
END:VEVENT
BEGIN:VEVENT
DTSTAMP:20260419T205131
DTSTART;TZID=Europe/Berlin:20270408T090000
DTEND;TZID=Europe/Berlin:20270408T160000
UID:26-21K-003-20270408T090000@AWOBILDUNGSWERK THÜRINGEN
SUMMARY:Kinderschutz kompakt – Für starke Kinder und sichere(re) Lebenswelten (26-21K-003) 
LOCATION:AWO Bildungswerk Erfurt, Seminarraum 3, Am Johannestor 23, 99084 Erfurt
END:VEVENT
BEGIN:VEVENT
DTSTAMP:20260419T205131
DTSTART;TZID=Europe/Berlin:20270409T090000
DTEND;TZID=Europe/Berlin:20270409T160000
UID:26-21K-003-20270409T090000@AWOBILDUNGSWERK THÜRINGEN
SUMMARY:Kinderschutz kompakt – Für starke Kinder und sichere(re) Lebenswelten (26-21K-003) 
LOCATION:AWO Bildungswerk Erfurt, Seminarraum 3, Am Johannestor 23, 99084 Erfurt
END:VEVENT
END:VCALENDAR