BEGIN:VCALENDAR
PRODID:http://www.kufer.de/kuferweb / DE
VERSION:2.0
METHOD:PUBLISH
CALSCALE:GREGORIAN
X-WR-TIMEZONE:Europe/Berlin
BEGIN:VTIMEZONE
TZID:Europe/Berlin
X-LIC-LOCATION:Europe/Berlin
BEGIN:DAYLIGHT
TZOFFSETFROM:+0100
TZOFFSETTO:+0200
TZNAME:CEST
DTSTART;TZID=Europe/Berlin:19700329T020000
RRULE:FREQ=YEARLY;INTERVAL=1;BYDAY=-1SU;BYMONTH=3
END:DAYLIGHT
BEGIN:STANDARD
TZOFFSETFROM:+0200
TZOFFSETTO:+0100
TZNAME:CET
DTSTART;TZID=Europe/Berlin:19701025T030000
RRULE:FREQ=YEARLY;INTERVAL=1;BYDAY=-1SU;BYMONTH=10
END:STANDARD
END:VTIMEZONE
BEGIN:VEVENT
DTSTAMP:20260420T033700
DTSTART;TZID=Europe/Berlin:20260929T090000
DTEND;TZID=Europe/Berlin:20260929T160000
UID:26-21K-PX1-20260929T090000@AWOBILDUNGSWERK THÜRINGEN
SUMMARY:Qualifizierung von Praxisanleiter*innen in der Kinder- und Jugendhilfe (88 Stunden) Praxisanleitung als Brücke für die nächste pädagogische Generation (26-21K-PX1) 
LOCATION:Online-Veranstaltung, , 
END:VEVENT
BEGIN:VEVENT
DTSTAMP:20260420T033700
DTSTART;TZID=Europe/Berlin:20260930T090000
DTEND;TZID=Europe/Berlin:20260930T160000
UID:26-21K-PX1-20260930T090000@AWOBILDUNGSWERK THÜRINGEN
SUMMARY:Qualifizierung von Praxisanleiter*innen in der Kinder- und Jugendhilfe (88 Stunden) Praxisanleitung als Brücke für die nächste pädagogische Generation (26-21K-PX1) 
LOCATION:Online-Veranstaltung, , 
END:VEVENT
BEGIN:VEVENT
DTSTAMP:20260420T033700
DTSTART;TZID=Europe/Berlin:20261027T090000
DTEND;TZID=Europe/Berlin:20261027T160000
UID:26-21K-PX2-20261027T090000@AWOBILDUNGSWERK THÜRINGEN
SUMMARY:Qualifizierung von Praxisanleiter*innen in der Kinder- und Jugendhilfe (88 Stunden) Praxisanleitung als Brücke für die nächste pädagogische Generation (26-21K-PX2) 
LOCATION:Online-Veranstaltung, , 
END:VEVENT
BEGIN:VEVENT
DTSTAMP:20260420T033700
DTSTART;TZID=Europe/Berlin:20261126T090000
DTEND;TZID=Europe/Berlin:20261126T160000
UID:26-21K-PX3-20261126T090000@AWOBILDUNGSWERK THÜRINGEN
SUMMARY:Qualifizierung von Praxisanleiter*innen in der Kinder- und Jugendhilfe (88 Stunden) Praxisanleitung als Brücke für die nächste pädagogische Generation (26-21K-PX3) 
LOCATION:Online-Veranstaltung, , 
END:VEVENT
BEGIN:VEVENT
DTSTAMP:20260420T033700
DTSTART;TZID=Europe/Berlin:20261127T090000
DTEND;TZID=Europe/Berlin:20261127T160000
UID:26-21K-PX3-20261127T090000@AWOBILDUNGSWERK THÜRINGEN
SUMMARY:Qualifizierung von Praxisanleiter*innen in der Kinder- und Jugendhilfe (88 Stunden) Praxisanleitung als Brücke für die nächste pädagogische Generation (26-21K-PX3) 
LOCATION:Online-Veranstaltung, , 
END:VEVENT
BEGIN:VEVENT
DTSTAMP:20260420T033700
DTSTART;TZID=Europe/Berlin:20261215T090000
DTEND;TZID=Europe/Berlin:20261215T160000
UID:26-21K-PX4-20261215T090000@AWOBILDUNGSWERK THÜRINGEN
SUMMARY:Qualifizierung von Praxisanleiter*innen in der Kinder- und Jugendhilfe (88 Stunden) Praxisanleitung als Brücke für die nächste pädagogische Generation (26-21K-PX4) 
LOCATION:Online-Veranstaltung, , 
END:VEVENT
BEGIN:VEVENT
DTSTAMP:20260420T033700
DTSTART;TZID=Europe/Berlin:20270128T090000
DTEND;TZID=Europe/Berlin:20270128T160000
UID:26-21K-PX5-20270128T090000@AWOBILDUNGSWERK THÜRINGEN
SUMMARY:Qualifizierung von Praxisanleiter*innen in der Kinder- und Jugendhilfe (88 Stunden) Praxisanleitung als Brücke für die nächste pädagogische Generation (26-21K-PX5) 
LOCATION:AWO Bildungswerk Erfurt, Seminarraum 3, Am Johannestor 23, 99084 Erfurt
END:VEVENT
BEGIN:VEVENT
DTSTAMP:20260420T033700
DTSTART;TZID=Europe/Berlin:20270129T090000
DTEND;TZID=Europe/Berlin:20270129T160000
UID:26-21K-PX5-20270129T090000@AWOBILDUNGSWERK THÜRINGEN
SUMMARY:Qualifizierung von Praxisanleiter*innen in der Kinder- und Jugendhilfe (88 Stunden) Praxisanleitung als Brücke für die nächste pädagogische Generation (26-21K-PX5) 
LOCATION:AWO Bildungswerk Erfurt, Seminarraum 3, Am Johannestor 23, 99084 Erfurt
END:VEVENT
BEGIN:VEVENT
DTSTAMP:20260420T033700
DTSTART;TZID=Europe/Berlin:20270429T090000
DTEND;TZID=Europe/Berlin:20270429T160000
UID:26-21K-PX7-20270429T090000@AWOBILDUNGSWERK THÜRINGEN
SUMMARY:Qualifizierung von Praxisanleiter*innen in der Kinder- und Jugendhilfe (88 Stunden) Praxisanleitung als Brücke für die nächste pädagogische Generation (26-21K-PX7) 
LOCATION:AWO Bildungswerk Erfurt, Seminarraum 3, Am Johannestor 23, 99084 Erfurt
END:VEVENT
END:VCALENDAR